BEGIN:VCALENDAR
VERSION:2.0
PRODID:-//Tukios.com/
BEGIN:VEVENT
UID:8cf41048-b145-43fc-9795-e6a906ee421b@www.andersontebeest.com
DTSTAMP:20260419T124524Z
DTSTART:20190315T200000Z
DTEND:20190315T210000Z
SUMMARY:Graveside Service
DESCRIPTION:
URL:https://www.andersontebeest.com/obituaries/6601924
LOCATION:Appleton City Cemetery 555 South Munsterman Street  Appleton MN 
	56208
GEO:45.1865359;-96.02625
END:VEVENT
END:VCALENDAR