BEGIN:VCALENDAR
VERSION:2.0
PRODID:-//Tukios.com/
BEGIN:VEVENT
UID:78110814-8ee5-4d61-9769-d8baffe2f3dd@www.andersontebeest.com
DTSTAMP:20260421T082359Z
DTSTART:20180322T220000Z
DTEND:20180323T000000Z
SUMMARY:Visitation
DESCRIPTION:
URL:https://www.andersontebeest.com/obituaries/6602025
LOCATION:Shepherd of the Hills Lutheran Church, Swift Falls    Swift 
	Falls MN 56215
GEO:45.3988501;-95.42392
END:VEVENT
END:VCALENDAR