BEGIN:VCALENDAR
VERSION:2.0
PRODID:-//Tukios.com/
BEGIN:VEVENT
UID:b3a75bb3-4007-4b38-9765-dfdaaac846c6@www.andersontebeest.com
DTSTAMP:20260421T084049Z
DTSTART:20180323T160000Z
DTEND:20180323T170000Z
SUMMARY:Funeral Service
DESCRIPTION:
URL:https://www.andersontebeest.com/obituaries/6602025
LOCATION:Shepherd of the Hills Lutheran Church, Swift Falls    Swift 
	Falls MN 56215
GEO:45.3988501;-95.42392
END:VEVENT
END:VCALENDAR