BEGIN:VCALENDAR
VERSION:2.0
PRODID:-//Tukios.com/
BEGIN:VEVENT
UID:24827a06-5f34-49c6-a9e7-40003d91fd6c@www.andersontebeest.com
DTSTAMP:20260420T085509Z
DTSTART:20171228T190000Z
DTEND:20171228T200000Z
SUMMARY:Visitation
DESCRIPTION:
URL:https://www.andersontebeest.com/obituaries/6602056
LOCATION:Zion Lutheran Church-Appleton, MN 23 East Rooney Avenue  
	Appleton MN 56208
GEO:45.1992768;-96.0169642
END:VEVENT
END:VCALENDAR