BEGIN:VCALENDAR
VERSION:2.0
PRODID:-//Tukios.com/
BEGIN:VEVENT
UID:9b523aa0-9de4-4265-9997-7b7e1fb81f19@www.andersontebeest.com
DTSTAMP:20260421T083253Z
DTSTART:20171112T220000Z
DTEND:20171113T010000Z
SUMMARY:Visitation
DESCRIPTION:
URL:https://www.andersontebeest.com/obituaries/6602078
LOCATION:Trinity Lutheran Church in Appleton 27 East Thielke Avenue  
	Appleton MN 56208
GEO:45.2030803;-96.0170949
END:VEVENT
END:VCALENDAR