BEGIN:VCALENDAR
VERSION:2.0
PRODID:-//Tukios.com/
BEGIN:VEVENT
UID:4ee7271a-7b9b-41d4-98e2-2798773703b5@www.andersontebeest.com
DTSTAMP:20260420T085748Z
DTSTART:20210830T150000Z
DTEND:20210830T160000Z
SUMMARY:Visitation
DESCRIPTION:
URL:https://www.andersontebeest.com/obituaries/lance-lokken
LOCATION:Zniewski Funeral Home Vaala Chapel 50 South Miles Street  
	Appleton MN 56208
GEO:45.1994198;-96.0186253
END:VEVENT
END:VCALENDAR