BEGIN:VCALENDAR
VERSION:2.0
PRODID:-//Tukios.com/
BEGIN:VEVENT
UID:868be2f2-7d45-4f56-9194-48b86924ae0a@www.andersontebeest.com
DTSTAMP:20260420T090541Z
DTSTART:20260516T160000Z
DTEND:20260516T170000Z
SUMMARY:Celebration of Life
DESCRIPTION:
URL:https://www.andersontebeest.com/obituaries/phyllis-hartzell
LOCATION:First Baptist Church 505 13th Street North  Benson MN 56215
GEO:45.3181882;-95.5987942
END:VEVENT
END:VCALENDAR