BEGIN:VCALENDAR
VERSION:2.0
PRODID:-//Tukios.com/
BEGIN:VEVENT
UID:51c55944-960d-4a78-b770-6dac8cf9da98@www.andersontebeest.com
DTSTAMP:20260421T004707Z
DTSTART:20260423T220000Z
DTEND:20260424T000000Z
SUMMARY:Visitation
DESCRIPTION:
URL:https://www.andersontebeest.com/obituaries/susan-siverhus
LOCATION: 629 North 3rd St.  Montevideo MN 56265
GEO:44.9515852;-95.7232454
END:VEVENT
END:VCALENDAR