BEGIN:VCALENDAR
VERSION:2.0
PRODID:-//Tukios.com/
BEGIN:VEVENT
UID:c861ace5-7baa-4c65-a36b-270e23615fa8@www.andersontebeest.com
DTSTAMP:20260421T004130Z
DTSTART:20260424T170000Z
DTEND:20260424T180000Z
SUMMARY:Visitation
DESCRIPTION:
URL:https://www.andersontebeest.com/obituaries/susan-siverhus
LOCATION: 8025 1st Avenue South  Montevideo MN 56265
GEO:44.902217;-95.5955818
END:VEVENT
END:VCALENDAR