BEGIN:VCALENDAR
VERSION:2.0
PRODID:-//Tukios.com/
BEGIN:VEVENT
UID:d86c15c7-319b-457c-b302-989e3d9dd941@www.andersontebeest.com
DTSTAMP:20260421T004612Z
DTSTART:20260424T180000Z
DTEND:20260424T190000Z
SUMMARY:Funeral Service
DESCRIPTION:
URL:https://www.andersontebeest.com/obituaries/susan-siverhus
LOCATION: 8025 1st Avenue South  Montevideo MN 56265
GEO:44.902217;-95.5955818
END:VEVENT
END:VCALENDAR